BEGIN:VCALENDAR
VERSION:2.0
PRODID:-//eventon.com NONSGML v1.0//EN
BEGIN:VEVENT
UID:69ec32072476f
DTSTAMP:20260424T211623
DTSTART:20220608T170000Z
DTEND:20220608T190000Z
TZID:America/Mexico_City
LOCATION:
SUMMARY:La Familia ¿Rota?
DESCRIPTION: La Familia ¿Rota?
URL:https://tallerdeideas.net/events/la-familia-rota/var/event_access
END:VEVENT
END:VCALENDAR